BEGIN:VCALENDAR
VERSION:2.0
PRODID:icalendar-ruby
CALSCALE:GREGORIAN
METHOD:PUBLISH
BEGIN:VEVENT
DTSTAMP:20260424T215304Z
UID:282-1982842@stjohnsottawa.com
DTSTART:20260503T180000Z
DTEND:20260503T190000Z
CLASS:PUBLIC
CREATED:20260424T142052
DESCRIPTION:Excitement is in the air! Get ready to be part of something ext
 raordinary at Strings of St. John's spring concert. This concert will sh
 owcase our commission\, the word premier of Christine Donkin's St John's S
 uite! Not to be missed !  \nThank you for choosing to attend and share th
 e joy of music.\nTickets at the door or online 
LAST-MODIFIED:20260424T142052
LOCATION:The Nave - St. John's the Evangelist
SUMMARY:Strings of St John's Spring Concert
URL;VALUE=URI:https://www.stjohnsottawa.com/events/strings-of-st-johns-spri
 ng-concert/2026-05-03
END:VEVENT
END:VCALENDAR
